BEGIN:VCALENDAR
VERSION:2.0
PRODID:-//Deaf Health Wales - ECPv6.15.20//NONSGML v1.0//EN
CALSCALE:GREGORIAN
METHOD:PUBLISH
X-WR-CALNAME:Deaf Health Wales
X-ORIGINAL-URL:https://deafhealth.wales
X-WR-CALDESC:Events for Deaf Health Wales
REFRESH-INTERVAL;VALUE=DURATION:PT1H
X-Robots-Tag:noindex
X-PUBLISHED-TTL:PT1H
BEGIN:VTIMEZONE
TZID:Europe/London
BEGIN:DAYLIGHT
TZOFFSETFROM:+0000
TZOFFSETTO:+0100
TZNAME:BST
DTSTART:20250330T010000
END:DAYLIGHT
BEGIN:STANDARD
TZOFFSETFROM:+0100
TZOFFSETTO:+0000
TZNAME:GMT
DTSTART:20251026T010000
END:STANDARD
BEGIN:DAYLIGHT
TZOFFSETFROM:+0000
TZOFFSETTO:+0100
TZNAME:BST
DTSTART:20260329T010000
END:DAYLIGHT
BEGIN:STANDARD
TZOFFSETFROM:+0100
TZOFFSETTO:+0000
TZNAME:GMT
DTSTART:20261025T010000
END:STANDARD
BEGIN:DAYLIGHT
TZOFFSETFROM:+0000
TZOFFSETTO:+0100
TZNAME:BST
DTSTART:20270328T010000
END:DAYLIGHT
BEGIN:STANDARD
TZOFFSETFROM:+0100
TZOFFSETTO:+0000
TZNAME:GMT
DTSTART:20271031T010000
END:STANDARD
END:VTIMEZONE
BEGIN:VEVENT
DTSTART;TZID=Europe/London:20260418T103000
DTEND;TZID=Europe/London:20260418T113000
DTSTAMP:20260417T192451
CREATED:20260307T023902Z
LAST-MODIFIED:20260409T133408Z
UID:2674-1776508200-1776511800@deafhealth.wales
SUMMARY:BSL Tour of "Go Home Polish"
DESCRIPTION:BSL Tour of “Go Home Polish” by Michal Iwanowski from 10:30am-11:30am at Storiel
URL:https://deafhealth.wales/event/bsl-tour-of-go-home/
LOCATION:Storiel\, STORIEL Ffordd\, Bangor\, Gwynedd\, LL57 1DT\, United Kingdom
CATEGORIES:DGNW
ORGANIZER;CN="Deaf Gwdih%C5%B5":MAILTO:info@deafgwdihw.com
END:VEVENT
END:VCALENDAR