BEGIN:VCALENDAR
VERSION:2.0
PRODID:-//Deaf Health Wales - ECPv6.15.20//NONSGML v1.0//EN
CALSCALE:GREGORIAN
METHOD:PUBLISH
X-WR-CALNAME:Deaf Health Wales
X-ORIGINAL-URL:https://deafhealth.wales
X-WR-CALDESC:Events for Deaf Health Wales
REFRESH-INTERVAL;VALUE=DURATION:PT1H
X-Robots-Tag:noindex
X-PUBLISHED-TTL:PT1H
BEGIN:VTIMEZONE
TZID:Europe/London
BEGIN:DAYLIGHT
TZOFFSETFROM:+0000
TZOFFSETTO:+0100
TZNAME:BST
DTSTART:20250330T010000
END:DAYLIGHT
BEGIN:STANDARD
TZOFFSETFROM:+0100
TZOFFSETTO:+0000
TZNAME:GMT
DTSTART:20251026T010000
END:STANDARD
BEGIN:DAYLIGHT
TZOFFSETFROM:+0000
TZOFFSETTO:+0100
TZNAME:BST
DTSTART:20260329T010000
END:DAYLIGHT
BEGIN:STANDARD
TZOFFSETFROM:+0100
TZOFFSETTO:+0000
TZNAME:GMT
DTSTART:20261025T010000
END:STANDARD
BEGIN:DAYLIGHT
TZOFFSETFROM:+0000
TZOFFSETTO:+0100
TZNAME:BST
DTSTART:20270328T010000
END:DAYLIGHT
BEGIN:STANDARD
TZOFFSETFROM:+0100
TZOFFSETTO:+0000
TZNAME:GMT
DTSTART:20271031T010000
END:STANDARD
END:VTIMEZONE
BEGIN:VEVENT
DTSTART;VALUE=DATE:20260418
DTEND;VALUE=DATE:20260419
DTSTAMP:20260417T192507
CREATED:20260323T102622Z
LAST-MODIFIED:20260410T073119Z
UID:2773-1776470400-1776556799@deafhealth.wales
SUMMARY:Mini Deaf Gathering (North Wales) Transport
DESCRIPTION:We’re planning return transport from Wrexham to Bangor for Mini Deaf Gathering with pick‑ups in: \n7:45am – Box Lane\, Wrexham\, LL12 8EF\, Wales (Outside The Four Dogs Pub) \n8:45am – Rhyl – Coach Layby\, West Parade – (Opposite Premier Inn) Rhyl\, LL18 1HE \n9:15am – Colwyn Bay – 77 Conwy Road\, Colwyn Bay\, LL29 7LN \n9:30am – Conwy – Vicarage Car Park\, Rose Hill St\, Conwy LL32 8LD \nDrop‑offs will follow the same route after the event. \nPlease reserve your seat now!  
URL:https://deafhealth.wales/event/mini-deaf-gathering-north-wales-transport/
CATEGORIES:DGNW
ATTACH;FMTTYPE=image/jpeg:https://deafhealth.wales/wp-content/uploads/2026/03/annie-spratt-AtTfS5BYGU4-unsplash-scaled.jpg
ORGANIZER;CN="Deaf Health Wales":MAILTO:deafhealth@bangor.ac.uk
END:VEVENT
END:VCALENDAR